BEGIN:VCALENDAR
METHOD:PUBLISH
VERSION:2.0
PRODID:-//WoltLab GmbH//WoltLab Suite Calendar 5.4//EN
CALSCALE:GREGORIAN
X-WR-CALNAME;VALUE=TEXT:Schöne Sterne 2025
BEGIN:VEVENT
TRANSP:TRANSPARENT
UID:event-24@nast-sonderfahrzeuge.de
URL:https://nast-sonderfahrzeuge.de/calendar/event/24-sch%C3%B6ne-sterne-20
 25/
DTSTART;VALUE=DATE:20250830
DTSTAMP:20250830T000000Z
CREATED:20250830T000000Z
SUMMARY:Schöne Sterne 2025
DESCRIPTION:
LOCATION:Werksstraße 1\, 45527 Hattingen\, Deutschland
GEO:51.4055099;7.2026882
DTEND;VALUE=DATE:20250901
END:VEVENT
END:VCALENDAR
